BEGIN:VCALENDAR
VERSION:2.0
PRODID:-//North Wales Cyclocross Group - ECPv4.2.6//NONSGML v1.0//EN
CALSCALE:GREGORIAN
METHOD:PUBLISH
X-WR-CALNAME:North Wales Cyclocross Group
X-ORIGINAL-URL:http://www.cyclocross.cymru
X-WR-CALDESC:Events for North Wales Cyclocross Group
BEGIN:VEVENT
DTSTART;VALUE=DATE:20171029
DTEND;VALUE=DATE:20171029
DTSTAMP:20260421T091149
CREATED:20160902
LAST-MODIFIED:20171025
UID:61-1509235200-1509321599@www.cyclocross.cymru
SUMMARY:Round 3 - Coleg Llandrillo Rhos-on-Sea
DESCRIPTION:Round 3 of the 2017/18 North Wales Cyclo-cross League: Coleg Llandrillo LL11 6HA\n\n(sponsored by The Bike Factory\, Chester)\n\nSunday 29 October 2017\n\n\n\nColeg Llandrillo is situated in beautiful Rhos on Sea within sight of the North Wales coastline. This modern campus features state-of-the-art buildings\, rolling grassland\, superb sporting facilities and near limitless Sunday car parking.\n\nCompetitors can expect a “Rhos Rough Ride” with fast flowing sweeps and some adventurous banking and cambers. Expect an excursion into Wiggly Wood where organisers have been busy preparing single track.\n\n \n\nMale and Female WCs are located near the canteen complex. Please treat all facilities with respect.\n\nTimings:\n\nRound 3 takes us to Coleg Llandrillo\, Rhos on Sea.\nAmple parking but no coffee van :( though RoS cycling club will be selling refreshements to raise funds for their junior squad so bring your apetites:)\n\n*10 -10:45 Race 1&2 number pick up and fun race registration.\n*11:00 - Kids fun race - round the skull & x-bones\n*11:20 Race 1: U12/U10/U8 - yellow route\n*11:50 Race 2: U16/U14/ Adult novice/fun - Blue route\n*12:30 - 13:00 Race 3 number pick up\n*13:15 Race 3: Juniors & Adults - Red route\n*14:30 - all hands to the deck to help take the course down please ;)\n\nPLEASE:\n\nNO riding on the course whilst other classes are racing - its only fair!\nRace 1&2 can pre-ride 10-10:30\nRace 3 can pre-ride 12:30 - 13:00\n\nKeep ALL children supervised at ALL times - we have had a few 'near miss' events with kids getting too close to racers\n\nPlease keep off the course during racers - if crossing do so carefully\n\nPlease DO NOT cross back over the finish line at the end of your race - others still racing desreve a clear run into the finish\n\nIf you have to pull out please let the race scorers know so we are not waiting for you to finish.\n\nTHANKS ALL - HERES TO ANOTHER GREAT RACE :\n\n\n\nVenue address: Coleg Llandrillo\, Llandudno Rd\, Rhos-on-Sea\, Colwyn Bay LL28 4HZ
URL:http://www.cyclocross.cymru/event/round-3-coleg-llandrillo/
LOCATION:Colwyn Bay\, Conwy\, LL28 4HZ
END:VEVENT
END:VCALENDAR